BEGIN:VCALENDAR
VERSION:2.0
PRODID:-//Oranjevereniging Sassenheim - ECPv6.2.1//NONSGML v1.0//EN
CALSCALE:GREGORIAN
METHOD:PUBLISH
X-WR-CALNAME:Oranjevereniging Sassenheim
X-ORIGINAL-URL:https://www.oranjevereniging-sassenheim.nl
X-WR-CALDESC:Evenementen voor Oranjevereniging Sassenheim
REFRESH-INTERVAL;VALUE=DURATION:PT1H
X-Robots-Tag:noindex
X-PUBLISHED-TTL:PT1H
BEGIN:VTIMEZONE
TZID:Europe/Amsterdam
BEGIN:DAYLIGHT
TZOFFSETFROM:+0100
TZOFFSETTO:+0200
TZNAME:CEST
DTSTART:20220327T010000
END:DAYLIGHT
BEGIN:STANDARD
TZOFFSETFROM:+0200
TZOFFSETTO:+0100
TZNAME:CET
DTSTART:20221030T010000
END:STANDARD
END:VTIMEZONE
BEGIN:VEVENT
DTSTART;TZID=Europe/Amsterdam:20220923T200000
DTEND;TZID=Europe/Amsterdam:20220924T010000
DTSTAMP:20260424T014437
CREATED:20220903T122404Z
LAST-MODIFIED:20220904T170630Z
UID:6174-1663963200-1663981200@www.oranjevereniging-sassenheim.nl
SUMMARY:Jungle-Party met DJ TBA
DESCRIPTION:De Vrijdag avond van de feestweek gaan we terug naar de Jungle. Het beloofd een wilde avond te worden\, vol verassingen. Feest\, slingeren aan lianen en lekker dansen en meezingen op klassiekers en foute klanken. Houd onze socials in de gaten voor meer informatie. Vanaf 20.00 is de jungle geopend \nToegang: vanaf 18 jaar\nToegangsprijs: EUR 10\,- \nDeze munten zijn te koop op zondag 18 september in park Rusthoff en vanaf dinsdagavond bij de feesttent kassa.
URL:https://www.oranjevereniging-sassenheim.nl/programma/jungle-party-met-dj-tba/
LOCATION:Feesttent Sassem\, sportdreef\, Sassenheim\, NL
CATEGORIES:Najaarsfeesten
ATTACH;FMTTYPE=image/jpeg:https://www.oranjevereniging-sassenheim.nl/wp-content/uploads/2022/09/03172681-BC45-4663-A099-B3DD79877767.jpeg
END:VEVENT
BEGIN:VEVENT
DTSTART;TZID=Europe/Amsterdam:20220924T150000
DTEND;TZID=Europe/Amsterdam:20220924T170000
DTSTAMP:20260424T014437
CREATED:20180902T205056Z
LAST-MODIFIED:20220903T122855Z
UID:2992-1664031600-1664038800@www.oranjevereniging-sassenheim.nl
SUMMARY:Live uit de tap on tour
DESCRIPTION:Deze zaterdagmiddag organiseren wij bij de feesttent een waar meezingspektakel. Tal van Nederlandse artiesten zullen voor u optreden. Allemaal muziek om gezellig mee te zingen\, dus deze middag wordt geen middag om stil in een hoekje te luisteren. Hier zingt een ieder uit volle borst mee. Bang voor een droge keel hoeft u ook deze middag niet te zijn\, want in de vroege ochtend zorgen onze vrienden van Heineken er nog één keer voor dat alle tanks en alle ijskasten tot aan de rand gevuld worden. En uiteraard zijn alle foodtrucks ook weer tot de nok toe gevuld\, want van al dat zingen zult u naast dorst ook wel trek krijgen.
URL:https://www.oranjevereniging-sassenheim.nl/programma/live-uit-de-tap-on-tour/
LOCATION:Feesttent Sassem\, sportdreef\, Sassenheim\, NL
CATEGORIES:Najaarsfeesten
ATTACH;FMTTYPE=image/jpeg:https://www.oranjevereniging-sassenheim.nl/wp-content/uploads/2018/09/live-uit-de-tap.jpg
END:VEVENT
END:VCALENDAR