BEGIN:VCALENDAR
VERSION:2.0
PRODID:-//Oranjevereniging Sassenheim - ECPv6.2.1//NONSGML v1.0//EN
CALSCALE:GREGORIAN
METHOD:PUBLISH
X-WR-CALNAME:Oranjevereniging Sassenheim
X-ORIGINAL-URL:https://www.oranjevereniging-sassenheim.nl
X-WR-CALDESC:Evenementen voor Oranjevereniging Sassenheim
REFRESH-INTERVAL;VALUE=DURATION:PT1H
X-Robots-Tag:noindex
X-PUBLISHED-TTL:PT1H
BEGIN:VTIMEZONE
TZID:Europe/Amsterdam
BEGIN:DAYLIGHT
TZOFFSETFROM:+0100
TZOFFSETTO:+0200
TZNAME:CEST
DTSTART:20220327T010000
END:DAYLIGHT
BEGIN:STANDARD
TZOFFSETFROM:+0200
TZOFFSETTO:+0100
TZNAME:CET
DTSTART:20221030T010000
END:STANDARD
END:VTIMEZONE
BEGIN:VEVENT
DTSTART;TZID=Europe/Amsterdam:20220922T210000
DTEND;TZID=Europe/Amsterdam:20220923T000000
DTSTAMP:20260424T014332
CREATED:20180902T201016Z
LAST-MODIFIED:20220908T121611Z
UID:2963-1663880400-1663891200@www.oranjevereniging-sassenheim.nl
SUMMARY:Foute party met Q-music
DESCRIPTION:Deze donderdagavond gaat alweer het dak van de tent\, want het leukste feest van Nederland komt ook dit jaar weer naar Sassenheim. The Party met de hits en de DJ’s van Q-Music. Dat wordt weer een feestje! Zorg dat u er weer bij bent. \nToegangsmunten zijn zondagmiddag te koop tijdens de speciale verkoop in het park\, op dinsdagavond vanaf 18.00 uur en woensdag bij de kassa van de Oranjefeesttent. Wees er op tijd bij om teleurstellingen te voorkomen. \nToegangsprijs: € 5\,- \n\nDeze munten zijn te koop op zondag 18 september in park Rusthoff en vanaf dinsdagavond bij de feesttent kassa.
URL:https://www.oranjevereniging-sassenheim.nl/programma/foute-party-met-q-music/
LOCATION:Feesttent Sassem\, sportdreef\, Sassenheim\, NL
CATEGORIES:Najaarsfeesten
ATTACH;FMTTYPE=image/jpeg:https://www.oranjevereniging-sassenheim.nl/wp-content/uploads/2018/09/q-4uur-1.jpg
END:VEVENT
END:VCALENDAR