BEGIN:VCALENDAR
VERSION:2.0
PRODID:-//Oranjevereniging Sassenheim - ECPv6.2.1//NONSGML v1.0//EN
CALSCALE:GREGORIAN
METHOD:PUBLISH
X-ORIGINAL-URL:https://www.oranjevereniging-sassenheim.nl
X-WR-CALDESC:Evenementen voor Oranjevereniging Sassenheim
REFRESH-INTERVAL;VALUE=DURATION:PT1H
X-Robots-Tag:noindex
X-PUBLISHED-TTL:PT1H
BEGIN:VTIMEZONE
TZID:Europe/Amsterdam
BEGIN:DAYLIGHT
TZOFFSETFROM:+0100
TZOFFSETTO:+0200
TZNAME:CEST
DTSTART:20220327T010000
END:DAYLIGHT
BEGIN:STANDARD
TZOFFSETFROM:+0200
TZOFFSETTO:+0100
TZNAME:CET
DTSTART:20221030T010000
END:STANDARD
END:VTIMEZONE
BEGIN:VEVENT
DTSTART;TZID=Europe/Amsterdam:20220921T210000
DTEND;TZID=Europe/Amsterdam:20220921T235900
DTSTAMP:20260423T225256
CREATED:20220903T114620Z
LAST-MODIFIED:20220903T120313Z
UID:6155-1663794000-1663804740@www.oranjevereniging-sassenheim.nl
SUMMARY:Pater Moeskroen in de Oranjefeesttent
DESCRIPTION:Gelijk op de eerste avond gaat in de feesttent het dak er af. Al twee jaar geleden door de Oranjevereniging geboekt\, maar nu is het dan eindelijk zover.\nPater Moeskroen: De heren stonden aan de wieg van krakers als ‘Joost’\, ‘Laat Maar Waaien’\, ‘Dansen’ en ‘Hela Hola’. En wie herinnert zich niet ‘Roodkapje’?! \nAanstekelijke folk\, knallende feestnummers en meeslepende ballades: Pater Moeskroen brengt het met een karrenvracht aan instrumenten wat het herkenbare Moeskroen-geluid maakt! Live is de band een ware feest-sensatie\, vol herkenning voor jong en oud. \nToegangsmunten voor deze avond: EUR 15\,-\nDeze munten zijn te koop op zondag 18 september in park Rusthoff en vanaf dinsdagavond bij de feesttent kassa.
URL:https://www.oranjevereniging-sassenheim.nl/programma/pater-moeskroen-in-de-oranjefeesttent/
LOCATION:Feesttent Sassem\, sportdreef\, Sassenheim\, NL
CATEGORIES:Najaarsfeesten
ATTACH;FMTTYPE=image/jpeg:https://www.oranjevereniging-sassenheim.nl/wp-content/uploads/2022/09/unnamed-1.jpg
END:VEVENT
END:VCALENDAR