BEGIN:VCALENDAR
VERSION:2.0
PRODID:-//Oranjevereniging Sassenheim - ECPv6.2.1//NONSGML v1.0//EN
CALSCALE:GREGORIAN
METHOD:PUBLISH
X-ORIGINAL-URL:https://www.oranjevereniging-sassenheim.nl
X-WR-CALDESC:Evenementen voor Oranjevereniging Sassenheim
REFRESH-INTERVAL;VALUE=DURATION:PT1H
X-Robots-Tag:noindex
X-PUBLISHED-TTL:PT1H
BEGIN:VTIMEZONE
TZID:Europe/Amsterdam
BEGIN:DAYLIGHT
TZOFFSETFROM:+0100
TZOFFSETTO:+0200
TZNAME:CEST
DTSTART:20210328T010000
END:DAYLIGHT
BEGIN:STANDARD
TZOFFSETFROM:+0200
TZOFFSETTO:+0100
TZNAME:CET
DTSTART:20211031T010000
END:STANDARD
END:VTIMEZONE
BEGIN:VEVENT
DTSTART;VALUE=DATE:20210922
DTEND;VALUE=DATE:20210926
DTSTAMP:20260425T181953
CREATED:20210908T210433Z
LAST-MODIFIED:20210921T143443Z
UID:4878-1632268800-1632614399@www.oranjevereniging-sassenheim.nl
SUMMARY:GPS tocht
DESCRIPTION:Een wandeltocht maken met behulp van GPS is een bijzonder aangename vrijetijdsbesteding\, waarbij een goede navigatie altijd centraal staat. \nVoor deze GPS speurtocht krijg je een aantal coördinaten\, die je op de juiste manier moet invoeren in Google Maps. Op ieder coördinaat vind je een opdracht of een puzzel. Met het antwoord of de oplossing kun je vervolgens een nieuw coördinaat (van de eindlocatie) vormen. Je vindt bijvoorbeeld A=3\, B=6 enzovoorts. De volgorde van het bezoeken van de coördinaten is niet zo belangrijk. Uiteindelijk moet je wel langs ELK coördinaat om alle cijfers voor het laatste coördinaat te krijgen. Je kunt er ook meerdere dagen over doen als je wilt. Aan het eindpunt wacht een leuke verrassing op iedere deelnemer! \nDe gegevens kunt u vanaf 20 september downloaden van onze website. Zo heb je nog twee dagen om je voor te bereiden\, want beginnen kun je echt pas op woensdag 22 september.
URL:https://www.oranjevereniging-sassenheim.nl/programma/gps-tocht/
CATEGORIES:Najaarsfeesten
ATTACH;FMTTYPE=image/jpeg:https://www.oranjevereniging-sassenheim.nl/wp-content/uploads/2021/09/WhatsApp-Image-2021-09-08-at-23.02.18.jpeg
END:VEVENT
BEGIN:VEVENT
DTSTART;TZID=Europe/Amsterdam:20210925T120000
DTEND;TZID=Europe/Amsterdam:20210925T235900
DTSTAMP:20260425T181953
CREATED:20210908T171622Z
LAST-MODIFIED:20210908T171622Z
UID:4808-1632571200-1632614340@www.oranjevereniging-sassenheim.nl
SUMMARY:Kermis
DESCRIPTION:Nabij het kermis- en feestterrein zijn toiletvoorzieningen geplaatst. De Oranjevereniging verzoekt u dringend deze voorziening te gebruiken en de omwonenden niet tot last te zijn! De toiletten in sportcomplex De Wasbeek zijn uitsluitend bedoeld voor de gebruikers van het sportcomplex! \nHet kermis terrein is een afgesloten terrein en i.v.m. de corona maatregelen zal er een maximum gelden voor het aantal bezoekers wat gelijktijdig op het terrein aanwezig mag zijn. Houd onze website en social media in de gaten voor eventuele wijzigingen van de regels.
URL:https://www.oranjevereniging-sassenheim.nl/programma/kermis-4/
LOCATION:Lunapark\, Van Alkemadelaan 10-12\, Sassenheim\, 2171 DH\, Nederland
CATEGORIES:Najaarsfeesten
ATTACH;FMTTYPE=image/jpeg:https://www.oranjevereniging-sassenheim.nl/wp-content/uploads/2017/08/kermis.jpg
END:VEVENT
BEGIN:VEVENT
DTSTART;TZID=Europe/Amsterdam:20210925T200000
DTEND;TZID=Europe/Amsterdam:20210925T235900
DTSTAMP:20260425T181953
CREATED:20210908T183813Z
LAST-MODIFIED:20210917T155256Z
UID:4840-1632600000-1632614340@www.oranjevereniging-sassenheim.nl
SUMMARY:Feestavond op het Oranjefeestterein
DESCRIPTION:BREAKING NEWS! Op Zaterdag 25 september meer bezoekers toegestaan op het feestterrein.\n \nVanavond verzorgt DJ Michiel de muziek. \nToegangsmunten in de verkoop via onze website met dank aan TicketTeam. \n  \nDIT JAAR GEEN FEESTTENT\, WEL FEEST \nORANJEFEESTTERREIN op het parkeerterrein van Korfbalvereniging TOP \nOPENLUCHT FEEST \nDit jaar mogen we op ons feestterrein 750 gasten ontvangen. Een tent mag dit jaar niet geplaatst worden.  We organiseren daarom dit jaar een OPENLUCHT FEEST. We hebben iedere avond leuke muziek\, we hebben een goed gevulde bar en we kijken er naar uit om jullie te mogen begroeten. \nOm toegang tot ons feestterrein te krijgen het volgende: \n\nHet tonen van een Coronatoegangsbewijs is verplicht. Wij zullen daarop controleren. Om het voor iedereen gemakkelijker te maken vragen wij u om de CoronaCheckApp op uw mobiel te installeren\nAlle avonden is vanaf 20:00 uur de minimum leeftijd voor toegang 18 jaar.\nWe gebruiken herbruikbare drinkbekers.\nDe toegangsmunten verkopen we dit jaar via internet voor een prijs van € 4\,- + € 2\,50 voor een drinkbekermunt.\nVerkoop start op vrijdag 10 september 2021 om 18:00 uur.\n\nTOEGANGSMUNTEN \nDe afspraken voor het kopen van de toegangsmunten zijn: \n\nDe verkoop vindt uitsluitend plaats via Internet.\nDe bestelde munten worden bij u thuis bezorgd in de dagen voor het begin van de feestweek.\nAlleen inwoners van Sassenheim kunnen toegangsmunten bestellen.\nPer huisadres kunt u maximaal 2 toegangsmunten per feestavond bestellen.\nVoor vrijdag- en zaterdagavond samen kunt u per huisadres 2 toegangsmunten bestellen (dus 2 voor vrijdagavond OF 2 voor zaterdagavond OF 1 voor vrijdag- en 1 voor zaterdagavond)\n\nCORONAMAATREGELEN \nHelaas zijn er in Nederland nog steeds beperkende maatregelen van kracht i.v.m. de COVID-19 pandemie. Uiteraard gelden die maatregelen ook tijdens de Najaarsfeesten in Sassenheim. Dit zijn de maatregelen zoals ze momenteel van kracht zijn: \n\nOp het kermisterrein geldt 1\,5 mtr afstand en een verplichte looprichting.\nTijdens vele evenementen is het tonen van een Coronatoegangsbewijs verplicht. Exacte informatie vindt u bij de afzonderlijke evenementen in dit boekje. Bij de toegang van alle betreffende evenementen zal afzonderlijk gecontroleerd worden.\nAlle evenementen die we organiseren zijn altijd onder voorbehoud. Indien de Rijksoverheid de actuele regelgeving aanpast\, kan dat invloed hebben op de doorgang van evenementen. Houdt daarvoor onze website goed in de gaten. Ook op sociale media zullen wij wijzigingen duidelijk communiceren.\nDe aanwijzingen van de door de organisatie aangewezen beveiligers\, alsmede ook de aanwijzingen van politie en boa’s zijn ten allen tijden op te volgen.\n\nCORONATOEGANGSBEWIJS  \nU kunt op 1 van deze 3 manieren een Coronatoegangsbewijs krijgen: \n\nVaccinatiebewijs:\nVolledige coronavaccinatie. Met een Europees goedgekeurd vaccin. Vanaf zaterdag 10 juli is in Nederland een vaccinatie geldig vanaf 14 dagen nadat u volledig bent gevaccineerd. Meestal kan CoronaCheck uw vaccinatiebewijs automatisch ophalen uit de systemen van RIVM of GGD.\nHerstelbewijs\nBewijs dat u minder dan 6 maanden geleden hersteld bent van corona.\nTestbewijs\nEen negatieve testuitslag van minder dan 24 uur voor de activiteit.\n\nDRINKBEKERS \nVanaf dit jaar zullen we geen eenmalige drinkbekers meer gebruiken tijdens onze feestweek. De grote hoeveelheid afval die we daarmee elk jaar weer produceerden\, is niet meer te verenigen met onze doelstellingen voor een beter milieu. In plaats daarvan gaan we gebruik maken van herbruikbare drinkbekers. Deze drinkbekers kunnen dus gewassen worden om daarna opnieuw te gebruiken. Wij hebben op ons feestterein niet de mogelijkheid om drinkbekers te wassen en daarom zullen wij de gebruikte bekers innemen en bij een professioneel bedrijf laten reinigen. U krijgt dus elke keer een schone beker als u aan de bar een consumptie bestelt. De volgende regels zullen wij bij dit systeem wel hanteren: \n\nBij het bestellen van de toegangsmunten betaalt u € 2\,50 extra. Voor deze € 2\,50 krijgt u de hele avond bij elke consumptie een schone drinkbeker. Tevens mag u voor dit bedrag gratis gebruik maken van onze toiletten.\nBij binnenkomst op het feestterrein ontvangt u bij inlevering van uw toegangsmunt een drinkbekermunt.\nAls u aan de bar een consumptie bestelt\, dient u uw drinkbekermunt of uw lege glas in te leveren.\nWe hebben aan de bar ook voldoende pitchers beschikbaar met daarin 6 biertjes. Deze pitchers kunt u zonder statiegeld gebruiken. Handig als u een rondje wilt geven en nog niet iedereen heeft zijn glas leeg.\nAan het einde van de avond levert u uw drinkbeker in aan de bar.\nEr worden dus geen drinkbekers in de vuilnisbak of op de grond gegooid.\nBij verlies van uw drinkbeker(munt) kunt u aan de kassa voor € 2\,50 een nieuwe drinkbekermunt aanschaffen.
URL:https://www.oranjevereniging-sassenheim.nl/programma/feestavond-op-het-oranjefeestterein-4/
LOCATION:Feesttent terrein\, Sportdreef\, Sassenheim\, Nederland
CATEGORIES:Najaarsfeesten
ATTACH;FMTTYPE=image/jpeg:https://www.oranjevereniging-sassenheim.nl/wp-content/uploads/2021/09/images0.persgroep.jpg
END:VEVENT
END:VCALENDAR