BEGIN:VCALENDAR
VERSION:2.0
PRODID:-//Oranjevereniging Sassenheim - ECPv6.2.1//NONSGML v1.0//EN
CALSCALE:GREGORIAN
METHOD:PUBLISH
X-WR-CALNAME:Oranjevereniging Sassenheim
X-ORIGINAL-URL:https://www.oranjevereniging-sassenheim.nl
X-WR-CALDESC:Evenementen voor Oranjevereniging Sassenheim
REFRESH-INTERVAL;VALUE=DURATION:PT1H
X-Robots-Tag:noindex
X-PUBLISHED-TTL:PT1H
BEGIN:VTIMEZONE
TZID:Europe/Amsterdam
BEGIN:DAYLIGHT
TZOFFSETFROM:+0100
TZOFFSETTO:+0200
TZNAME:CEST
DTSTART:20210328T010000
END:DAYLIGHT
BEGIN:STANDARD
TZOFFSETFROM:+0200
TZOFFSETTO:+0100
TZNAME:CET
DTSTART:20211031T010000
END:STANDARD
END:VTIMEZONE
BEGIN:VEVENT
DTSTART;TZID=Europe/Amsterdam:20210910T180000
DTEND;TZID=Europe/Amsterdam:20210910T235900
DTSTAMP:20260425T185241
CREATED:20210908T193507Z
LAST-MODIFIED:20210910T115838Z
UID:4864-1631296800-1631318340@www.oranjevereniging-sassenheim.nl
SUMMARY:Start verkoop toegangsmunten feestavonden
DESCRIPTION:Op vrijdag avond zal om 18:00 uur de online verkoop van de toegangsmunten van start gaan. \nDe afspraken voor het kopen van de toegangsmunten zijn:\n\nDe verkoop vindt uitsluitend plaats via Internet. \nDe bestelde munten worden bij u thuis bezorgd in de dagen voor het begin van de feestweek.\nAlleen inwoners van Sassenheim kunnen toegangsmunten bestellen.\nPer huisadres kunt u maximaal 2 toegangsmunten per feestavond bestellen.\nVoor vrijdag- en zaterdagavond samen kunt u per huisadres 2 toegangsmunten bestellen (dus 2 voor vrijdagavond OF 2 voor zaterdagavond OF 1 voor vrijdag- en 1 voor zaterdagavond)\n\n  \nOPENLUCHT FEEST \nDit jaar mogen we op ons feestterrein 750 gasten ontvangen. Een tent mag dit jaar niet geplaatst worden.  We organiseren daarom dit jaar een OPENLUCHT FEEST. We hebben iedere avond leuke muziek\, we hebben een goed gevulde bar en we kijken er naar uit om jullie te mogen begroeten. \nOm toegang tot ons feestterrein te krijgen het volgende: \n\nHet tonen van een Coronatoegangsbewijs is verplicht. Wij zullen daarop controleren. Om het voor iedereen gemakkelijker te maken vragen wij u om de CoronaCheckApp op uw mobiel te installeren\nAlle avonden is vanaf 20:00 uur de minimum leeftijd voor toegang 18 jaar.\nWe gebruiken herbruikbare drinkbekers.\nDe toegangsmunten verkopen we dit jaar via internet voor een prijs van € 4\,- + € 2\,50 voor een drinkbekermunt. \n\n CORONATOEGANGSBEWIJS  \nU kunt op 1 van deze 3 manieren een Coronatoegangsbewijs krijgen: \n\nVaccinatiebewijs:\nVolledige coronavaccinatie. Met een Europees goedgekeurd vaccin. Vanaf zaterdag 10 juli is in Nederland een vaccinatie geldig vanaf 14 dagen nadat u volledig bent gevaccineerd. Meestal kan CoronaCheck uw vaccinatiebewijs automatisch ophalen uit de systemen van RIVM of GGD.\nHerstelbewijs\nBewijs dat u minder dan 6 maanden geleden hersteld bent van corona.\nTestbewijs\nEen negatieve testuitslag van minder dan 24 uur voor de activiteit.\n\nDRINKBEKERS \nVanaf dit jaar zullen we geen eenmalige drinkbekers meer gebruiken tijdens onze feestweek. De grote hoeveelheid afval die we daarmee elk jaar weer produceerden\, is niet meer te verenigen met onze doelstellingen voor een beter milieu. In plaats daarvan gaan we gebruik maken van herbruikbare drinkbekers. Deze drinkbekers kunnen dus gewassen worden om daarna opnieuw te gebruiken. Wij hebben op ons feestterein niet de mogelijkheid om drinkbekers te wassen en daarom zullen wij de gebruikte bekers innemen en bij een professioneel bedrijf laten reinigen. U krijgt dus elke keer een schone beker als u aan de bar een consumptie bestelt. De volgende regels zullen wij bij dit systeem wel hanteren: \n\nBij het bestellen van de toegangsmunten betaalt u € 2\,50 extra. Voor deze € 2\,50 krijgt u de hele avond bij elke consumptie een schone drinkbeker. Tevens mag u voor dit bedrag gratis gebruik maken van onze toiletten.\nBij binnenkomst op het feestterrein ontvangt u bij inlevering van uw toegangsmunt een drinkbekermunt.\nAls u aan de bar een consumptie bestelt\, dient u uw drinkbekermunt of uw lege glas in te leveren.\nWe hebben aan de bar ook voldoende pitchers beschikbaar met daarin 6 biertjes. Deze pitchers kunt u zonder statiegeld gebruiken. Handig als u een rondje wilt geven en nog niet iedereen heeft zijn glas leeg. \nAan het einde van de avond levert u uw drinkbeker in aan de bar.\nEr worden dus geen drinkbekers in de vuilnisbak of op de grond gegooid.\nBij verlies van uw drinkbeker(munt) kunt u aan de kassa voor € 2\,50 een nieuwe drinkbekermunt aanschaffen.
URL:https://www.oranjevereniging-sassenheim.nl/programma/start-verkoop-toegangsmunten-feestavonden/
CATEGORIES:Najaarsfeesten
ATTACH;FMTTYPE=image/jpeg:https://www.oranjevereniging-sassenheim.nl/wp-content/uploads/2021/09/kaartverkoop.jpg
END:VEVENT
END:VCALENDAR